BEGIN:VCALENDAR
VERSION:2.0
PRODID:https://www.eco.de/event/schoko-sushi-virtuell/
BEGIN:VEVENT
UID:196049
DTSTAMP:20260423T075134
DTSTART:20220701T130000
DTEND:20220701T140000
SUMMARY:Schoko & Sushi - virtuell
LOCATION:
ORGANIZER:eco
URL:https://www.eco.de/event/schoko-sushi-virtuell/
DESCRIPTION:Schoko & Sushi - virtuell
END:VEVENT
END:VCALENDAR
