BEGIN:VCALENDAR
VERSION:2.0
PRODID:https://www.eco.de/event/hpc-quanten-und-bio-computing-eine-lange-reise/
BEGIN:VEVENT
UID:197551
DTSTAMP:20260423T005522
DTSTART:20220914T113000
DTEND:20220914T180000
SUMMARY:HPC\, Quanten- und Bio-Computing – Research-as-usual oder „Kommt da was schneller als bisher gedacht“?
LOCATION:
ORGANIZER:eco
URL:https://www.eco.de/event/hpc-quanten-und-bio-computing-eine-lange-reise/
DESCRIPTION:HPC\, Quanten- und Bio-Computing – Research-as-usual oder „Kommt da was schneller als bisher gedacht“?
END:VEVENT
END:VCALENDAR
