BEGIN:VCALENDAR
VERSION:2.0
PRODID:https://www.eco.de/event/vorratsdaten-presse-hintergrundgespraech-spacenet-ag-vs-brd/
BEGIN:VEVENT
UID:200235
DTSTAMP:20260422T133454
DTSTART:20220915T103000
DTEND:20220915T113500
SUMMARY:Vorratsdaten: Presse-Hintergrundgespräch – SpaceNet AG vs. BRD
LOCATION:
ORGANIZER:eco
URL:https://www.eco.de/event/vorratsdaten-presse-hintergrundgespraech-spacenet-ag-vs-brd/
DESCRIPTION:Vorratsdaten: Presse-Hintergrundgespräch – SpaceNet AG vs. BRD
END:VEVENT
END:VCALENDAR
