BEGIN:VCALENDAR
VERSION:2.0
PRODID:https://www.eco.de/event/allianztalk-muenchen/
BEGIN:VEVENT
UID:200956
DTSTAMP:20260424T085637
DTSTART:20221012T150000
DTEND:20221012T163000
SUMMARY:AllianzTalk München
LOCATION:
ORGANIZER:eco
URL:https://www.eco.de/event/allianztalk-muenchen/
DESCRIPTION:AllianzTalk München
END:VEVENT
END:VCALENDAR
