BEGIN:VCALENDAR
VERSION:2.0
PRODID:https://www.eco.de/event/gaia-x-roadshow-powered-by-eco-muenchen/
BEGIN:VEVENT
UID:201152
DTSTAMP:20260422T100142
DTSTART:20221020T180000
DTEND:20221020T000000
SUMMARY:Gaia-X Roadshow powered by eco - München
LOCATION:
ORGANIZER:eco
URL:https://www.eco.de/event/gaia-x-roadshow-powered-by-eco-muenchen/
DESCRIPTION:Gaia-X Roadshow powered by eco - München
END:VEVENT
END:VCALENDAR
