BEGIN:VCALENDAR
VERSION:2.0
PRODID:https://www.eco.de/event/27-breitband-forum-fokuswechsel-in-sicht/
BEGIN:VEVENT
UID:203200
DTSTAMP:20260422T001231
DTSTART:20221108T120000
DTEND:20221108T180000
SUMMARY:27. Breitband-Forum - Fokuswechsel in Sicht?
LOCATION:TÜV Rheinland - Raum: Rheinland Saal\, Am Grauen Stein\, 51105 Köln
ORGANIZER:eco
URL:https://www.eco.de/event/27-breitband-forum-fokuswechsel-in-sicht/
DESCRIPTION:27. Breitband-Forum - Fokuswechsel in Sicht?
END:VEVENT
END:VCALENDAR
