BEGIN:VCALENDAR
VERSION:2.0
PRODID:https://www.eco.de/event/2-eco-pr-lunch/
BEGIN:VEVENT
UID:204123
DTSTAMP:20260421T195233
DTSTART:20221027T123000
DTEND:20221027T140000
SUMMARY:2. eco PR Lunch
LOCATION:eco - Verband der Internetwirtschaft e.V.\, Lichtstraße 43i\, 50825 Köln
ORGANIZER:eco
URL:https://www.eco.de/event/2-eco-pr-lunch/
DESCRIPTION:2. eco PR Lunch
END:VEVENT
END:VCALENDAR
