BEGIN:VCALENDAR
VERSION:2.0
PRODID:https://www.eco.de/event/csam-workshop-2-aufdeckungsmassnahmen-herausforderungen-potenziale/
BEGIN:VEVENT
UID:204411
DTSTAMP:20260421T181900
DTSTART:20221026T133000
DTEND:20221026T150000
SUMMARY:CSAM Workshop 2: Aufdeckungsmaßnahmen – Herausforderungen & Potenziale
LOCATION:
ORGANIZER:eco
URL:https://www.eco.de/event/csam-workshop-2-aufdeckungsmassnahmen-herausforderungen-potenziale/
DESCRIPTION:CSAM Workshop 2: Aufdeckungsmaßnahmen – Herausforderungen & Potenziale
END:VEVENT
END:VCALENDAR
