BEGIN:VCALENDAR
VERSION:2.0
PRODID:https://www.eco.de/event/politik-im-gespraech-mit-anna-kassautzki-mdb-spd/
BEGIN:VEVENT
UID:205986
DTSTAMP:20260421T111557
DTSTART:20221110T200000
DTEND:20221110T090000
SUMMARY:Politik im Gespräch mit Anna Kassautzki\, MdB (SPD)
LOCATION:eco Hauptstadtbüro\, Französische Straße 48\, 10117 Berlin
ORGANIZER:eco
URL:https://www.eco.de/event/politik-im-gespraech-mit-anna-kassautzki-mdb-spd/
DESCRIPTION:Politik im Gespräch mit Anna Kassautzki\, MdB (SPD)
END:VEVENT
END:VCALENDAR
