BEGIN:VCALENDAR
VERSION:2.0
PRODID:https://www.eco.de/event/policy-briefing-the-impact-of-green-policies-on-the-internet-infrastructure-industry/
BEGIN:VEVENT
UID:206483
DTSTAMP:20260421T114528
DTSTART:20221117T090000
DTEND:20221117T103000
SUMMARY:Policy Briefing - The Impact of Green Policies on the Internet Infrastructure Industry
LOCATION:eco’s Brussels office\, Rue de la Loi 38\, 1000 Brussels
ORGANIZER:eco
URL:https://www.eco.de/event/policy-briefing-the-impact-of-green-policies-on-the-internet-infrastructure-industry/
DESCRIPTION:Policy Briefing - The Impact of Green Policies on the Internet Infrastructure Industry
END:VEVENT
END:VCALENDAR
