BEGIN:VCALENDAR
VERSION:2.0
PRODID:https://www.eco.de/event/it-sa-2023-eco-gemeinschaftsstand-vor-ort/
BEGIN:VEVENT
UID:206521
DTSTAMP:20260421T093146
DTSTART:20231010T080000
DTEND:20231012T190000
SUMMARY:it-sa 2023 - eco Gemeinschaftsstand vor Ort
LOCATION:NürnbergMesse\, Messezentrum 1\, 90471 Nürnberg
ORGANIZER:eco
URL:https://www.eco.de/event/it-sa-2023-eco-gemeinschaftsstand-vor-ort/
DESCRIPTION:it-sa 2023 - eco Gemeinschaftsstand vor Ort
END:VEVENT
END:VCALENDAR
