BEGIN:VCALENDAR
VERSION:2.0
PRODID:https://www.eco.de/event/gaia-x-roadshow-powered-by-eco-hamburg/
BEGIN:VEVENT
UID:206720
DTSTAMP:20260420T174541
DTSTART:20230209T180000
DTEND:20230209T220000
SUMMARY:Gaia-X Roadshow powered by eco – Hamburg
LOCATION:
ORGANIZER:eco
URL:https://www.eco.de/event/gaia-x-roadshow-powered-by-eco-hamburg/
DESCRIPTION:Gaia-X Roadshow powered by eco – Hamburg
END:VEVENT
END:VCALENDAR
