BEGIN:VCALENDAR
VERSION:2.0
PRODID:https://www.eco.de/event/rahmenbedingungen-ngi/
BEGIN:VEVENT
UID:207155
DTSTAMP:20260421T061258
DTSTART:20230126T120000
DTEND:20230126T180000
SUMMARY:Rahmenbedingungen für Geschäfte über und mit dem Internet ändern sich: Worauf müssen Unternehmen sich einstellen?
LOCATION:Fraunhofer-Forum\, Anna-Louisa-Karsch-Straße 2\, 10178 Berlin / Online
ORGANIZER:eco
URL:https://www.eco.de/event/rahmenbedingungen-ngi/
DESCRIPTION:Rahmenbedingungen für Geschäfte über und mit dem Internet ändern sich: Worauf müssen Unternehmen sich einstellen?
END:VEVENT
END:VCALENDAR
