BEGIN:VCALENDAR
VERSION:2.0
PRODID:https://www.eco.de/event/kick-off-zur-eurocloud-next-leaders-initiative/
BEGIN:VEVENT
UID:208288
DTSTAMP:20260422T085800
DTSTART:20230125T160000
DTEND:20230125T210000
SUMMARY:Kick-off zur EuroCloud Next-Leaders-Initiative
LOCATION:
ORGANIZER:eco
URL:https://www.eco.de/event/kick-off-zur-eurocloud-next-leaders-initiative/
DESCRIPTION:Kick-off zur EuroCloud Next-Leaders-Initiative
END:VEVENT
END:VCALENDAR
