BEGIN:VCALENDAR
VERSION:2.0
PRODID:https://www.eco.de/event/eco-mitglieder-interner-austausch-und-meinungsbildung-zu-konnektivitaetsinfrastruktur-und-faire-beteiligung/
BEGIN:VEVENT
UID:209881
DTSTAMP:20260420T162905
DTSTART:20230112T150000
DTEND:20230112T163000
SUMMARY:eco – Mitglieder interner Austausch und Meinungsbildung zu „Konnektivitätsinfrastruktur und faire Beteiligung“
LOCATION:
ORGANIZER:eco
URL:https://www.eco.de/event/eco-mitglieder-interner-austausch-und-meinungsbildung-zu-konnektivitaetsinfrastruktur-und-faire-beteiligung/
DESCRIPTION:eco – Mitglieder interner Austausch und Meinungsbildung zu „Konnektivitätsinfrastruktur und faire Beteiligung“
END:VEVENT
END:VCALENDAR
