BEGIN:VCALENDAR
VERSION:2.0
PRODID:https://www.eco.de/event/elektrotechnik-2023/
BEGIN:VEVENT
UID:211077
DTSTAMP:20260420T132335
DTSTART:20230208T090000
DTEND:20230210T170000
SUMMARY:elektrotechnik 2023
LOCATION:
ORGANIZER:eco
URL:https://www.eco.de/event/elektrotechnik-2023/
DESCRIPTION:elektrotechnik 2023
END:VEVENT
END:VCALENDAR
