BEGIN:VCALENDAR
VERSION:2.0
PRODID:https://www.eco.de/event/workshop-ki-fuer-smart-cities/
BEGIN:VEVENT
UID:211852
DTSTAMP:20260420T094622
DTSTART:20230208T083000
DTEND:20230208T164500
SUMMARY:Workshop: KI für Smart Cities
LOCATION:
ORGANIZER:eco
URL:https://www.eco.de/event/workshop-ki-fuer-smart-cities/
DESCRIPTION:Workshop: KI für Smart Cities
END:VEVENT
END:VCALENDAR
