BEGIN:VCALENDAR
VERSION:2.0
PRODID:https://www.eco.de/event/ipv4-ipv6-transition/
BEGIN:VEVENT
UID:211879
DTSTAMP:20260420T094623
DTSTART:20230303T110000
DTEND:20230303T123000
SUMMARY:IPv4 - IPv6 Transition
LOCATION:
ORGANIZER:eco
URL:https://www.eco.de/event/ipv4-ipv6-transition/
DESCRIPTION:IPv4 - IPv6 Transition
END:VEVENT
END:VCALENDAR
