BEGIN:VCALENDAR
VERSION:2.0
PRODID:https://www.eco.de/event/roadshow-cybercrime-unternehmenswerte-schuetzen-risiken-minimieren/
BEGIN:VEVENT
UID:212238
DTSTAMP:20260420T082340
DTSTART:20230222T153000
DTEND:20230222T183000
SUMMARY:ROADSHOW CYBERCRIME „Unternehmenswerte schützen - Risiken minimieren“
LOCATION:Zenit GmbH\, Bismarckstraße 28\, 45470 Mülheim an der Ruhr
ORGANIZER:eco
URL:https://www.eco.de/event/roadshow-cybercrime-unternehmenswerte-schuetzen-risiken-minimieren/
DESCRIPTION:ROADSHOW CYBERCRIME „Unternehmenswerte schützen - Risiken minimieren“
END:VEVENT
END:VCALENDAR
