BEGIN:VCALENDAR
VERSION:2.0
PRODID:https://www.eco.de/event/kg-kritis/
BEGIN:VEVENT
UID:216904
DTSTAMP:20260421T085039
DTSTART:20230509T110000
DTEND:20230509T160000
SUMMARY:Kick Off Meeting - KRITIS
LOCATION:DE-CIX Meeting Center\, Lindleystrasse 12\, 60314 Frankfurt am Main
ORGANIZER:eco
URL:https://www.eco.de/event/kg-kritis/
DESCRIPTION:Kick Off Meeting - KRITIS
END:VEVENT
END:VCALENDAR
