BEGIN:VCALENDAR
VERSION:2.0
PRODID:https://www.eco.de/event/politik-im-gespraech-benjamin-brake-bmdv/
BEGIN:VEVENT
UID:222176
DTSTAMP:20260420T192850
DTSTART:20230620T080000
DTEND:20230620T090000
SUMMARY:Politik im Gespräch mit Benjamin Brake\, Bundesministerium für Digitales und Verkehr
LOCATION:eco Hauptstadtbüro\, Französische Straße 48\, 10117 Berlin
ORGANIZER:eco
URL:https://www.eco.de/event/politik-im-gespraech-benjamin-brake-bmdv/
DESCRIPTION:Politik im Gespräch mit Benjamin Brake\, Bundesministerium für Digitales und Verkehr
END:VEVENT
END:VCALENDAR
