BEGIN:VCALENDAR
VERSION:2.0
PRODID:https://www.eco.de/event/aktuelle-entscheidungen-des-eugh-rechtsprechung-und-praktische-auswirkungen/
BEGIN:VEVENT
UID:222319
DTSTAMP:20260420T174541
DTSTART:20230628T100000
DTEND:20230628T113000
SUMMARY:Aktuelle Entscheidungen des EuGH - Rechtsprechung und praktische Auswirkungen
LOCATION:
ORGANIZER:eco
URL:https://www.eco.de/event/aktuelle-entscheidungen-des-eugh-rechtsprechung-und-praktische-auswirkungen/
DESCRIPTION:Aktuelle Entscheidungen des EuGH - Rechtsprechung und praktische Auswirkungen
END:VEVENT
END:VCALENDAR
