BEGIN:VCALENDAR
VERSION:2.0
PRODID:https://www.eco.de/event/geotld-group-members-meeting-2023/
BEGIN:VEVENT
UID:225509
DTSTAMP:20260423T183018
DTSTART:20230911T123000
DTEND:20230912T170000
SUMMARY:geoTLD.group Members Meeting 2023
LOCATION:eco - Association of the Internet Industry\, Lichtstraße 43h\, 50825 Cologne
ORGANIZER:eco
URL:https://www.eco.de/event/geotld-group-members-meeting-2023/
DESCRIPTION:geoTLD.group Members Meeting 2023
END:VEVENT
END:VCALENDAR
