BEGIN:VCALENDAR
VERSION:2.0
PRODID:https://www.eco.de/event/digitale-infrastruktur-als-basis-von-smart-home-anwendungen/
BEGIN:VEVENT
UID:226048
DTSTAMP:20260420T082250
DTSTART:20230912T140000
DTEND:20230912T183000
SUMMARY:Digitale Infrastruktur als Basis von Smart-Home-Anwendungen
LOCATION:Huawei Open Lab\, Oskar-Messter-Straße 13\, 85737 Ismaning
ORGANIZER:eco
URL:https://www.eco.de/event/digitale-infrastruktur-als-basis-von-smart-home-anwendungen/
DESCRIPTION:Digitale Infrastruktur als Basis von Smart-Home-Anwendungen
END:VEVENT
END:VCALENDAR
