BEGIN:VCALENDAR
VERSION:2.0
PRODID:https://www.eco.de/event/smart-city-expo-world-congress/
BEGIN:VEVENT
UID:226428
DTSTAMP:20260425T232558
DTSTART:20231107T080000
DTEND:20231109T180000
SUMMARY:Smart City Expo World Congress
LOCATION:BARCELONA GRAN VIA VENUE\, \,  Barcelona & Online
ORGANIZER:eco
URL:https://www.eco.de/event/smart-city-expo-world-congress/
DESCRIPTION:Smart City Expo World Congress
END:VEVENT
END:VCALENDAR
