BEGIN:VCALENDAR
VERSION:2.0
PRODID:https://www.eco.de/event/topdns-best-practice-series-recognising-good-practice-in-the-dns-towards-positive-data-driven-policy-discussions/
BEGIN:VEVENT
UID:226473
DTSTAMP:20260421T092930
DTSTART:20230919T170000
DTEND:20230919T180000
SUMMARY:topDNS Best Practice Series: Recognising good practice in the DNS - towards positive\, data-driven policy discussions
LOCATION:
ORGANIZER:eco
URL:https://www.eco.de/event/topdns-best-practice-series-recognising-good-practice-in-the-dns-towards-positive-data-driven-policy-discussions/
DESCRIPTION:topDNS Best Practice Series: Recognising good practice in the DNS - towards positive\, data-driven policy discussions
END:VEVENT
END:VCALENDAR
