BEGIN:VCALENDAR
VERSION:2.0
PRODID:https://www.eco.de/event/enterprise-resilienz-fuer-netzinfrastrukturen/
BEGIN:VEVENT
UID:229741
DTSTAMP:20260421T134203
DTSTART:20231024T100000
DTEND:20231024T143000
SUMMARY:Redundanz von Netzinfrastrukturen für Enterprise-Resilienz
LOCATION:DE-CIX Meeting Center\, Lindleystraße 12\, 60314 Frankfurt am Main
ORGANIZER:eco
URL:https://www.eco.de/event/enterprise-resilienz-fuer-netzinfrastrukturen/
DESCRIPTION:Redundanz von Netzinfrastrukturen für Enterprise-Resilienz
END:VEVENT
END:VCALENDAR
