BEGIN:VCALENDAR
VERSION:2.0
PRODID:https://www.eco.de/event/die-werkstatt-der-zukunft-herausforderungen-und-datenschutz-im-fokus/
BEGIN:VEVENT
UID:230271
DTSTAMP:20260420T095452
DTSTART:20231123T100000
DTEND:20231123T160000
SUMMARY:Die Werkstatt der Zukunft – Herausforderungen und Datenschutz im Fokus
LOCATION:
ORGANIZER:eco
URL:https://www.eco.de/event/die-werkstatt-der-zukunft-herausforderungen-und-datenschutz-im-fokus/
DESCRIPTION:Die Werkstatt der Zukunft – Herausforderungen und Datenschutz im Fokus
END:VEVENT
END:VCALENDAR
