BEGIN:VCALENDAR
VERSION:2.0
PRODID:https://www.eco.de/event/kgsicherheit-22-11-23/
BEGIN:VEVENT
UID:230540
DTSTAMP:20260425T125614
DTSTART:20231122T140000
DTEND:20231122T170000
SUMMARY:Kompetenztreffen der KG Sicherheit: Supply Chain Resilience
LOCATION:eco-Geschäftsstelle in Köln\, Lichtstraße 43h\, 50825 Köln
ORGANIZER:eco
URL:https://www.eco.de/event/kgsicherheit-22-11-23/
DESCRIPTION:Kompetenztreffen der KG Sicherheit: Supply Chain Resilience
END:VEVENT
END:VCALENDAR
