BEGIN:VCALENDAR
VERSION:2.0
PRODID:https://www.eco.de/event/eco-pr-briefing-vol-6-deep-dive-podcast/
BEGIN:VEVENT
UID:232871
DTSTAMP:20260419T214430
DTSTART:20231207T090000
DTEND:20231207T100000
SUMMARY:eco PR Briefing Vol. 6: Deep Dive Podcast
LOCATION:
ORGANIZER:eco
URL:https://www.eco.de/event/eco-pr-briefing-vol-6-deep-dive-podcast/
DESCRIPTION:eco PR Briefing Vol. 6: Deep Dive Podcast
END:VEVENT
END:VCALENDAR
