BEGIN:VCALENDAR
VERSION:2.0
PRODID:https://www.eco.de/event/online-policy-briefing/
BEGIN:VEVENT
UID:233135
DTSTAMP:20260425T104449
DTSTART:20231205T153000
DTEND:20231205T163000
SUMMARY:Online Policy Briefing: The KRITIS-DachGesetz and the State of Transposition of the NIS2 Directive in Germany
LOCATION:
ORGANIZER:eco
URL:https://www.eco.de/event/online-policy-briefing/
DESCRIPTION:Online Policy Briefing: The KRITIS-DachGesetz and the State of Transposition of the NIS2 Directive in Germany
END:VEVENT
END:VCALENDAR
