BEGIN:VCALENDAR
VERSION:2.0
PRODID:https://www.eco.de/event/topdns-best-practice-series-addressing-evidencing-and-mitigating-abuse-in-web3/
BEGIN:VEVENT
UID:233288
DTSTAMP:20260421T101932
DTSTART:20231212T170000
DTEND:20231212T180000
SUMMARY:topDNS Best Practice Series: Addressing\, evidencing\, and mitigating abuse in Web3
LOCATION:
ORGANIZER:eco
URL:https://www.eco.de/event/topdns-best-practice-series-addressing-evidencing-and-mitigating-abuse-in-web3/
DESCRIPTION:topDNS Best Practice Series: Addressing\, evidencing\, and mitigating abuse in Web3
END:VEVENT
END:VCALENDAR
