BEGIN:VCALENDAR
VERSION:2.0
PRODID:https://www.eco.de/event/icann80-readout-highlights-take-aways-from-the-policy-forum/
BEGIN:VEVENT
UID:236407
DTSTAMP:20260422T124806
DTSTART:20240626T163000
DTEND:20240626T180000
SUMMARY:ICANN80 Readout – Highlights & Take-Aways from the Policy Forum
LOCATION:
ORGANIZER:eco
URL:https://www.eco.de/event/icann80-readout-highlights-take-aways-from-the-policy-forum/
DESCRIPTION:ICANN80 Readout – Highlights & Take-Aways from the Policy Forum
END:VEVENT
END:VCALENDAR
