BEGIN:VCALENDAR
VERSION:2.0
PRODID:https://www.eco.de/event/kentix-trend-schnueffler-tag-2017/
BEGIN:VEVENT
UID:24330
DTSTAMP:20260422T095356
DTSTART:20170914T000000
DTEND:20170914T000000
SUMMARY:Kentix Trendschnüffler Tag 2017
LOCATION:Klosterhotel Marienhöh\, Marienhöh 2-10\, 55758 Langweiler
ORGANIZER:eco
URL:https://www.eco.de/event/kentix-trend-schnueffler-tag-2017/
DESCRIPTION:Kentix Trendschnüffler Tag 2017
END:VEVENT
END:VCALENDAR
