BEGIN:VCALENDAR
VERSION:2.0
PRODID:https://www.eco.de/event/container-workshop-fuer-einsteiger-stuttgart/
BEGIN:VEVENT
UID:24442
DTSTAMP:20260422T000249
DTSTART:20171019T000000
DTEND:20171020T000000
SUMMARY:Container Workshop für Einsteiger – Stuttgart
LOCATION:tba\, \,  Stuttgart
ORGANIZER:eco
URL:https://www.eco.de/event/container-workshop-fuer-einsteiger-stuttgart/
DESCRIPTION:Container Workshop für Einsteiger – Stuttgart
END:VEVENT
END:VCALENDAR
