BEGIN:VCALENDAR
VERSION:2.0
PRODID:https://www.eco.de/event/container-workshop-fuer-einsteiger-muenchen/
BEGIN:VEVENT
UID:24471
DTSTAMP:20260421T170437
DTSTART:20171123T000000
DTEND:20171124T000000
SUMMARY:Hands-on Container Workshop – München
LOCATION:Kultion Factory\, Westendstraße 123\, 80339 München
ORGANIZER:eco
URL:https://www.eco.de/event/container-workshop-fuer-einsteiger-muenchen/
DESCRIPTION:Hands-on Container Workshop – München
END:VEVENT
END:VCALENDAR
