BEGIN:VCALENDAR
VERSION:2.0
PRODID:https://www.eco.de/event/tech-show-2026/
BEGIN:VEVENT
UID:247366
DTSTAMP:20260419T143130
DTSTART:20260506T090000
DTEND:20260507T180000
SUMMARY:Gemeinschaftsstand auf der Tech Show 2026
LOCATION:
ORGANIZER:eco
URL:https://www.eco.de/event/tech-show-2026/
DESCRIPTION:Gemeinschaftsstand auf der Tech Show 2026
END:VEVENT
END:VCALENDAR
