BEGIN:VCALENDAR
VERSION:2.0
PRODID:https://www.eco.de/event/der-nis2-implementing-guide/
BEGIN:VEVENT
UID:251365
DTSTAMP:20260421T044536
DTSTART:20250213T133000
DTEND:20250213T160000
SUMMARY:Der "NIS2 Implementing Guide"
LOCATION:
ORGANIZER:eco
URL:https://www.eco.de/event/der-nis2-implementing-guide/
DESCRIPTION:Der "NIS2 Implementing Guide"
END:VEVENT
END:VCALENDAR
