BEGIN:VCALENDAR
VERSION:2.0
PRODID:https://www.eco.de/event/green-it-nachhaltige-technologie-und-green-computing/
BEGIN:VEVENT
UID:253213
DTSTAMP:20260421T134209
DTSTART:20250326T093000
DTEND:20250326T180000
SUMMARY:Green IT – Nachhaltige Technologie und Green Computing
LOCATION:
ORGANIZER:eco
URL:https://www.eco.de/event/green-it-nachhaltige-technologie-und-green-computing/
DESCRIPTION:Green IT – Nachhaltige Technologie und Green Computing
END:VEVENT
END:VCALENDAR
