BEGIN:VCALENDAR
VERSION:2.0
PRODID:https://www.eco.de/event/systemhaus-dialog-2030-muenchen/
BEGIN:VEVENT
UID:253253
DTSTAMP:20260424T195343
DTSTART:20250408T130000
DTEND:20250408T180000
SUMMARY:Systemhaus Dialog 2030 (München)
LOCATION:Cisco Systems GmbH\, Parkring 20\, 85748 Garching
ORGANIZER:eco
URL:https://www.eco.de/event/systemhaus-dialog-2030-muenchen/
DESCRIPTION:Systemhaus Dialog 2030 (München)
END:VEVENT
END:VCALENDAR
