BEGIN:VCALENDAR
VERSION:2.0
PRODID:https://www.eco.de/event/wie-eine-dotbrand-top-level-domain-ihre-marke-transformieren-kann/
BEGIN:VEVENT
UID:253437
DTSTAMP:20260420T144135
DTSTART:20250227T110000
DTEND:20250227T114500
SUMMARY:Wie eine dotBrand-Top Level Domain Ihre Marke transformieren kann
LOCATION:
ORGANIZER:eco
URL:https://www.eco.de/event/wie-eine-dotbrand-top-level-domain-ihre-marke-transformieren-kann/
DESCRIPTION:Wie eine dotBrand-Top Level Domain Ihre Marke transformieren kann
END:VEVENT
END:VCALENDAR
