BEGIN:VCALENDAR
VERSION:2.0
PRODID:https://www.eco.de/event/kamp-data-center-day/
BEGIN:VEVENT
UID:255486
DTSTAMP:20260421T134057
DTSTART:20250508T110000
DTEND:20250508T160000
SUMMARY:KAMP Data Center Day
LOCATION:
ORGANIZER:eco
URL:https://www.eco.de/event/kamp-data-center-day/
DESCRIPTION:KAMP Data Center Day
END:VEVENT
END:VCALENDAR
