BEGIN:VCALENDAR
VERSION:2.0
PRODID:https://www.eco.de/event/roadshow-cybercrime-bei-aulinger-rechtsanwaelte/
BEGIN:VEVENT
UID:257138
DTSTAMP:20260420T084157
DTSTART:20250429T160000
DTEND:20250429T190000
SUMMARY:Roadshow Cybercrime bei Aulinger Rechtsanwälte
LOCATION:Aulinger Rechtsanwälte und Notare Bochum\, Josef-Neuberger-Straße 4\, 44787 Bochum
ORGANIZER:eco
URL:https://www.eco.de/event/roadshow-cybercrime-bei-aulinger-rechtsanwaelte/
DESCRIPTION:Roadshow Cybercrime bei Aulinger Rechtsanwälte
END:VEVENT
END:VCALENDAR
