BEGIN:VCALENDAR
VERSION:2.0
PRODID:https://www.eco.de/event/rz-flaechen-im-bestand-herausforderungen-und-wege/
BEGIN:VEVENT
UID:259988
DTSTAMP:20260421T135450
DTSTART:20251008T093000
DTEND:20251008T164000
SUMMARY:RZ-Flächen im Bestand ‒ Herausforderungen und Wege
LOCATION:Fogtec Brandschutz GmbH\, Schanzenstraße 19a\, 51063 Köln
ORGANIZER:eco
URL:https://www.eco.de/event/rz-flaechen-im-bestand-herausforderungen-und-wege/
DESCRIPTION:RZ-Flächen im Bestand ‒ Herausforderungen und Wege
END:VEVENT
END:VCALENDAR
