BEGIN:VCALENDAR
VERSION:2.0
PRODID:https://www.eco.de/event/data-center-roadshow-hamburg-2025/
BEGIN:VEVENT
UID:262638
DTSTAMP:20260420T082304
DTSTART:20251001T180000
DTEND:20251001T230000
SUMMARY:Data Center Roadshow – Hamburg (2025)
LOCATION:Sturmfreie Bude - Elphiblick\, Am Sandtorkai 72\, 20457 Hamburg
ORGANIZER:eco
URL:https://www.eco.de/event/data-center-roadshow-hamburg-2025/
DESCRIPTION:Data Center Roadshow – Hamburg (2025)
END:VEVENT
END:VCALENDAR
