BEGIN:VCALENDAR
VERSION:2.0
PRODID:https://www.eco.de/event/fiberdays-2026/
BEGIN:VEVENT
UID:266535
DTSTAMP:20260419T180211
DTSTART:20260325T080000
DTEND:20260326T190000
SUMMARY:fiberdays26
LOCATION:
ORGANIZER:eco
URL:https://www.eco.de/event/fiberdays-2026/
DESCRIPTION:fiberdays26
END:VEVENT
END:VCALENDAR
