BEGIN:VCALENDAR
VERSION:2.0
PRODID:https://www.eco.de/event/safety-security-zwei-seiten-einer-medaille/
BEGIN:VEVENT
UID:27001
DTSTAMP:20260422T021343
DTSTART:20171005T100000
DTEND:20171005T160000
SUMMARY:Safety & Security – zwei Seiten einer Medaille
LOCATION:Expat Center Vienna\, Schmerlingplatz 3\, 1010 Wien
ORGANIZER:eco
URL:https://www.eco.de/event/safety-security-zwei-seiten-einer-medaille/
DESCRIPTION:Safety & Security – zwei Seiten einer Medaille
END:VEVENT
END:VCALENDAR
