BEGIN:VCALENDAR
VERSION:2.0
PRODID:https://www.eco.de/event/pressebriefing-jahresberichts-beschwerdestelle/
BEGIN:VEVENT
UID:271389
DTSTAMP:20260421T120502
DTSTART:20260316T090000
DTEND:20260316T094500
SUMMARY:Pressebriefing - Präsentation des Jahresberichts der eco Beschwerdestelle für das Jahr 2025
LOCATION:
ORGANIZER:eco
URL:https://www.eco.de/event/pressebriefing-jahresberichts-beschwerdestelle/
DESCRIPTION:Pressebriefing - Präsentation des Jahresberichts der eco Beschwerdestelle für das Jahr 2025
END:VEVENT
END:VCALENDAR
