BEGIN:VCALENDAR
VERSION:2.0
PRODID:https://www.eco.de/event/kg-recht-regulierung/
BEGIN:VEVENT
UID:271468
DTSTAMP:20260421T115454
DTSTART:20260318T110000
DTEND:20260318T143000
SUMMARY:KG Recht & Regulierung
LOCATION:eco Hauptstadtbüro\, Französische Str. 48\, 10117 Berlin
ORGANIZER:eco
URL:https://www.eco.de/event/kg-recht-regulierung/
DESCRIPTION:KG Recht & Regulierung
END:VEVENT
END:VCALENDAR
