BEGIN:VCALENDAR
VERSION:2.0
PRODID:https://www.eco.de/event/5-deutscher-rechenzentrumstag/
BEGIN:VEVENT
UID:27425
DTSTAMP:20260422T055239
DTSTART:20170928T000000
DTEND:20170928T000000
SUMMARY:5. Deutscher Rechenzentrumstag
LOCATION:Hilton Airport Hotel\, \, 60549 Frankfurt am Main
ORGANIZER:eco
URL:https://www.eco.de/event/5-deutscher-rechenzentrumstag/
DESCRIPTION:5. Deutscher Rechenzentrumstag
END:VEVENT
END:VCALENDAR
